BEGIN:VCALENDAR
VERSION:2.0
PRODID:-//eventon.com NONSGML v1.0//EN
CALSCALE:GREGORIAN
METHOD:PUBLISH
BEGIN:VEVENT
UID:69e7f5f1c278a
DTSTAMP:20260421T181057
DTSTART:20260521T100000Z
DTEND:20260521T235900Z
TZID:America/New_York
LOCATION:
SUMMARY:WILMAPCO Council
DESCRIPTION:WILMAPCO Council
URL:https://wilmapco.org/meetings/wilmapco-council-copy/
END:VEVENT
END:VCALENDAR