BEGIN:VCALENDAR
VERSION:2.0
PRODID:-//eventon.com NONSGML v1.0//EN
CALSCALE:GREGORIAN
METHOD:PUBLISH
BEGIN:VEVENT
UID:69e7f63c1eed0
DTSTAMP:20260421T181212
DTSTART:20260521T140000Z
DTEND:20260521T235900Z
TZID:UTC
LOCATION:
SUMMARY:Technical Advisory Committee
DESCRIPTION:Technical Advisory Committee
URL:https://wilmapco.org/meetings/technical-advisory-committee-and-air-quality-subcommittee/
END:VEVENT
END:VCALENDAR